BEGIN:VCALENDAR
VERSION:2.0
PRODID:-//ChamberMaster//Event Calendar 2.0//EN
METHOD:PUBLISH
X-PUBLISHED-TTL:P1H
REFRESH-INTERVAL:P1H
CALSCALE:GREGORIAN
BEGIN:VTIMEZONE
TZID:Pacific/Auckland
BEGIN:DAYLIGHT
RRULE:FREQ=YEARLY;BYMONTH=9;BYDAY=-1SU
DTSTART:20080101T000000
TZOFFSETFROM:1200
TZOFFSETTO:1300
TZNAME:New Zealand Daylight Time
END:DAYLIGHT
BEGIN:STANDARD
RRULE:FREQ=YEARLY;BYMONTH=4;BYDAY=1SU
DTSTART:20080101T000000
TZOFFSETFROM:1300
TZOFFSETTO:1200
TZNAME:New Zealand Standard Time
END:STANDARD
END:VTIMEZONE
BEGIN:VEVENT
DTSTART;TZID=Pacific/Auckland:20260505T100000
DTEND;TZID=Pacific/Auckland:20260505T110000
X-MICROSOFT-CDO-ALLDAYEVENT:FALSE
SUMMARY:Coffee and Catch up | May 2026
DESCRIPTION:Members old and new\, please join us for an informal catch-up over a cuppa this month! The Chamber team look forward to seeing you at our office on Scott Street. These monthly coffee catchups are a great opportunity to network with other Chamber members\, share business ideas and make new connections.
X-ALT-DESC;FMTTYPE=text/html:<!DOCTYPE html><html><head><title></title></head><body aria-disabled="false"><p><span style="color: rgb(118\, 118\, 118)\; font-family: Roboto\, sans-serif\; font-size: 12px\; font-style: normal\; font-variant-ligatures: normal\; font-variant-caps: normal\; font-weight: 400\; letter-spacing: 0.5px\; orphans: 2\; text-align: start\; text-indent: 0px\; text-transform: none\; widows: 2\; word-spacing: 0px\; -webkit-text-stroke-width: 0px\; white-space: normal\; background-color: rgb(255\, 255\, 255)\; text-decoration-thickness: initial\; text-decoration-style: initial\; text-decoration-color: initial\; display: inline !important\; float: none\;">Members old and new\, please join us for an informal catch-up over a cuppa this month! The Chamber team look forward to seeing you at our office on Scott Street. These monthly coffee catchups are a great opportunity to network with other Chamber members\, share business ideas and make new connections.</span></p></body></html>
LOCATION:Level 1\, 6-8 Scott Street Blenheim Marlborough District 7201
UID:e.2702.1446855
SEQUENCE:3
DTSTAMP:20260425T152444Z
URL:https://marlboroughchamberofcommercenewzealand.growthzoneapp.com/eventcalendar/Details/coffee-and-catch-up-may-2026-1713665?sourceTypeId=Hub
END:VEVENT
END:VCALENDAR
